BEGIN:VCALENDAR
VERSION:2.0
PRODID:-//Diabetes Association of Atlanta - ECPv5.6.0//NONSGML v1.0//EN
CALSCALE:GREGORIAN
METHOD:PUBLISH
X-WR-CALNAME:Diabetes Association of Atlanta
X-ORIGINAL-URL:https://diabetesatlanta.org
X-WR-CALDESC:Events for Diabetes Association of Atlanta
BEGIN:VTIMEZONE
TZID:UTC
BEGIN:STANDARD
TZOFFSETFROM:+0000
TZOFFSETTO:+0000
TZNAME:UTC
DTSTART:20200101T000000
END:STANDARD
END:VTIMEZONE
BEGIN:VEVENT
DTSTART;TZID=UTC:20200826T120000
DTEND;TZID=UTC:20200826T130000
DTSTAMP:20260422T172315
CREATED:20200709T200038Z
LAST-MODIFIED:20200709T200038Z
UID:10618-1598443200-1598446800@diabetesatlanta.org
SUMMARY:W.O.W. Wednesday: Live Cooking Demo
DESCRIPTION:Join us the 4th Wednesday of each month for Words of Wellness Wednesday Programming. August’s webinar is a live healthy cooking demo taught by Chef Reggie
URL:https://diabetesatlanta.org/event/w-o-w-wednesday-live-cooking-demo/
LOCATION:Virtual
ORGANIZER;CN="Diabetes%20Association%20of%20Atlanta":MAILTO:diabetes@diabetesatlanta.org
END:VEVENT
END:VCALENDAR