BEGIN:VCALENDAR
VERSION:2.0
PRODID:-//Diabetes Association of Atlanta - ECPv5.6.0//NONSGML v1.0//EN
CALSCALE:GREGORIAN
METHOD:PUBLISH
X-WR-CALNAME:Diabetes Association of Atlanta
X-ORIGINAL-URL:https://diabetesatlanta.org
X-WR-CALDESC:Events for Diabetes Association of Atlanta
BEGIN:VTIMEZONE
TZID:UTC
BEGIN:STANDARD
TZOFFSETFROM:+0000
TZOFFSETTO:+0000
TZNAME:UTC
DTSTART:20200101T000000
END:STANDARD
END:VTIMEZONE
BEGIN:VEVENT
DTSTART;TZID=UTC:20201116T190000
DTEND;TZID=UTC:20201116T200000
DTSTAMP:20260423T011630
CREATED:20201104T181214Z
LAST-MODIFIED:20201104T182133Z
UID:10780-1605553200-1605556800@diabetesatlanta.org
SUMMARY:DAA Dish: Pumpkin Spice Things Up this Thanksgiving
DESCRIPTION:Cooking demo with DAA Diabetes and Education Coordinator\, Amanda Sobhani. Join us and learn a healthier alternative to creating a pumpkin pie. \nSHOPPING LIST \n\n1 Package sugar-free\, fat-free vanilla instant pudding mix\n1\, 15-ounce can pumpkin puree\n1\, 8-ounce container sugar-free whipped topping\nNonfat/skim milk\nPumpkin pie spice\nGraham crackers\n\nChoose which way you want to join the event: \n1. Register via Website: https://diabetesassociationofatlanta.clickmeeting.com/daa-dish-pumpkin-spice-things-up-this-thanksgiving \nConvert start time to your timezone: http://www.clickmeeting.com/converter/954834853 \n 
URL:https://diabetesatlanta.org/event/daa-dish-pumpkin-spice-things-up-this-thanksgiving/
LOCATION:Virtual
ORGANIZER;CN="Diabetes%20Association%20of%20Atlanta":MAILTO:diabetes@diabetesatlanta.org
END:VEVENT
END:VCALENDAR